Package: biocmake Version: 1.1.4 Command: /home/biocbuild/bbs-3.22-bioc/R/bin/R CMD check --install=check:biocmake.install-out.txt --library=/home/biocbuild/bbs-3.22-bioc/R/site-library --timings biocmake_1.1.4.tar.gz StartedAt: 2025-10-21 21:31:38 -0400 (Tue, 21 Oct 2025) EndedAt: 2025-10-21 21:31:59 -0400 (Tue, 21 Oct 2025) EllapsedTime: 21.0 seconds RetCode: 0 Status: OK CheckDir: biocmake.Rcheck Warnings: 0