Package: biocmake Version: 1.1.4 Command: /Library/Frameworks/R.framework/Resources/bin/R CMD INSTALL biocmake StartedAt: 2025-10-06 15:06:27 -0400 (Mon, 06 Oct 2025) EndedAt: 2025-10-06 15:06:59 -0400 (Mon, 06 Oct 2025) EllapsedTime: 32.3 seconds RetCode: 0 Status: OK