Package: biocmake Version: 1.1.4 Command: /Library/Frameworks/R.framework/Resources/bin/R CMD build --keep-empty-dirs --no-resave-data biocmake StartedAt: 2025-10-06 16:10:39 -0400 (Mon, 06 Oct 2025) EndedAt: 2025-10-06 16:10:51 -0400 (Mon, 06 Oct 2025) EllapsedTime: 12.6 seconds RetCode: 0 Status: OK PackageFile: biocmake_1.1.4.tar.gz PackageFileSize: 223.2 KiB