Package: biocmake Version: 1.1.4 Command: rm -rf biocmake.buildbin-libdir && mkdir biocmake.buildbin-libdir && /Users/biocbuild/BBS/utils/build-universal.sh biocmake_1.1.4.tar.gz /Library/Frameworks/R.framework/Resources/bin/R biocmake.buildbin-libdir StartedAt: 2025-10-06 01:50:17 -0400 (Mon, 06 Oct 2025) EndedAt: 2025-10-06 01:50:23 -0400 (Mon, 06 Oct 2025) EllapsedTime: 5.9 seconds RetCode: 0 Status: OK PackageFile: biocmake_1.1.4.tgz PackageFileSize: 243 KiB