Package: biocViews Version: 1.77.4 Command: /home/biocbuild/R/R/bin/R CMD build --keep-empty-dirs --no-resave-data biocViews StartedAt: 2025-10-06 22:10:59 -0000 (Mon, 06 Oct 2025) EndedAt: 2025-10-06 22:11:21 -0000 (Mon, 06 Oct 2025) EllapsedTime: 22.0 seconds RetCode: 0 Status: OK PackageFile: biocViews_1.77.4.tar.gz PackageFileSize: 559.6 KiB