Package: biocViews Version: 1.77.2 Command: F:\biocbuild\bbs-3.22-bioc\R\bin\R.exe CMD INSTALL biocViews StartedAt: 2025-08-14 15:40:48 -0400 (Thu, 14 Aug 2025) EndedAt: 2025-08-14 15:41:33 -0400 (Thu, 14 Aug 2025) EllapsedTime: 45.0 seconds RetCode: 0 Status: OK