Package: biocViews Version: 1.77.4 Command: /home/biocbuild/bbs-3.22-bioc/R/bin/R CMD check --install=check:biocViews.install-out.txt --library=/home/biocbuild/bbs-3.22-bioc/R/site-library --timings biocViews_1.77.4.tar.gz StartedAt: 2025-10-03 21:31:06 -0400 (Fri, 03 Oct 2025) EndedAt: 2025-10-03 21:32:28 -0400 (Fri, 03 Oct 2025) EllapsedTime: 82.1 seconds RetCode: 0 Status: OK CheckDir: biocViews.Rcheck Warnings: 0