Package: biocViews Version: 1.79.0 Command: /home/biocbuild/bbs-3.23-bioc/R/bin/R CMD INSTALL biocViews StartedAt: 2025-11-20 15:13:21 -0500 (Thu, 20 Nov 2025) EndedAt: 2025-11-20 15:13:29 -0500 (Thu, 20 Nov 2025) EllapsedTime: 8.7 seconds RetCode: 0 Status: OK