Package: biocViews Version: 1.79.0 Command: /home/biocbuild/bbs-3.23-bioc/R/bin/R CMD check --install=check:biocViews.install-out.txt --library=/home/biocbuild/bbs-3.23-bioc/R/site-library --timings biocViews_1.79.0.tar.gz StartedAt: 2025-11-20 21:30:16 -0500 (Thu, 20 Nov 2025) EndedAt: 2025-11-20 21:31:15 -0500 (Thu, 20 Nov 2025) EllapsedTime: 59.1 seconds RetCode: 0 Status: OK CheckDir: biocViews.Rcheck Warnings: 0