Package: biocViews Version: 1.79.0 Command: /home/biocbuild/bbs-3.23-bioc/R/bin/R CMD build --keep-empty-dirs --no-resave-data biocViews StartedAt: 2025-11-20 16:29:23 -0500 (Thu, 20 Nov 2025) EndedAt: 2025-11-20 16:29:38 -0500 (Thu, 20 Nov 2025) EllapsedTime: 15.1 seconds RetCode: 0 Status: OK PackageFile: biocViews_1.79.0.tar.gz PackageFileSize: 510.1 KiB