Back to Build/check report for BioC 3.23:   simplified   long
A[B]CDEFGHIJKLMNOPQRSTUVWXYZ

This page was generated on 2025-10-31 08:34 -0400 (Fri, 31 Oct 2025).

HostnameOSArch (*)R versionInstalled pkgs
nebbiolo1Linux (Ubuntu 24.04.3 LTS)x86_64R Under development (unstable) (2025-10-20 r88955) -- "Unsuffered Consequences" 4428
Click on any hostname to see more info about the system (e.g. compilers)      (*) as reported by 'uname -p', except on Windows and Mac OS X

All results for package biocViews


To the developers/maintainers of the biocViews package:
- Allow up to 24 hours (and sometimes 48 hours) for your latest push to git@git.bioconductor.org:packages/biocViews.git to reflect on this report. See Troubleshooting Build Report for more information.
- Use the following Renviron settings to reproduce errors and warnings.
- If 'R CMD check' started to fail recently on the Linux builder(s) over a missing dependency, add the missing dependency to 'Suggests:' in your DESCRIPTION file. See Renviron.bioc for more information.

raw results

Package 205/2321HostnameOS / ArchINSTALLBUILDCHECKBUILD BIN
biocViews 1.79.0  (landing page)
Bioconductor Package Maintainer
Snapshot Date: 2025-10-30 13:40 -0400 (Thu, 30 Oct 2025)
git_url: https://git.bioconductor.org/packages/biocViews
git_branch: devel
git_last_commit: c737240
git_last_commit_date: 2025-10-29 09:57:00 -0400 (Wed, 29 Oct 2025)
nebbiolo1Linux (Ubuntu 24.04.3 LTS) / x86_64  OK    OK    OK  YES



Results for Bioconductor software packages that depend directly on package biocViews

QUICK STATSOS / ArchINSTALLBUILDCHECKBUILD BIN
nebbiolo1Linux (Ubuntu 24.04.3 LTS) / x86_64
015
024
0112
Package 1/6HostnameOS / ArchINSTALLBUILDCHECKBUILD BIN
AnnotationHubData 1.41.0  (landing page)
Bioconductor Package Maintainer
git_last_commit: 932837e
git_last_commit_date: 2025-10-29 10:27:35 -0400
nebbiolo1Linux (Ubuntu 24.04.3 LTS) / x86_64  ERROR    ERROR  skipped
Package 2/6HostnameOS / ArchINSTALLBUILDCHECKBUILD BIN
BiocCheck 1.47.0  (landing page)
Marcel Ramos
git_last_commit: 09886ed
git_last_commit_date: 2025-10-29 19:20:08 -0400
nebbiolo1Linux (Ubuntu 24.04.3 LTS) / x86_64  OK    OK    ERROR  
Package 3/6HostnameOS / ArchINSTALLBUILDCHECKBUILD BIN
BiocPkgTools 1.29.0  (landing page)
Sean Davis
git_last_commit: a2f816c
git_last_commit_date: 2025-10-29 10:47:30 -0400
nebbiolo1Linux (Ubuntu 24.04.3 LTS) / x86_64  OK    ERROR  skipped
Package 4/6HostnameOS / ArchINSTALLBUILDCHECKBUILD BIN
BioGA 1.5.0  (landing page)
Dany Mukesha
git_last_commit: 7c8e9a3
git_last_commit_date: 2025-10-29 11:30:53 -0400
nebbiolo1Linux (Ubuntu 24.04.3 LTS) / x86_64  OK    OK    OK  NO, package depends on 'SummarizedExperiment' which is not available
Package 5/6HostnameOS / ArchINSTALLBUILDCHECKBUILD BIN
monocle 2.39.0  (landing page)
Cole Trapnell
git_last_commit: 1349852
git_last_commit_date: 2025-10-29 10:19:37 -0400
nebbiolo1Linux (Ubuntu 24.04.3 LTS) / x86_64  OK    OK    OK  YES
Package 6/6HostnameOS / ArchINSTALLBUILDCHECKBUILD BIN
sigFeature 1.29.0  (landing page)
Pijush Das Developer
git_last_commit: 0877319
git_last_commit_date: 2025-10-29 10:45:32 -0400
nebbiolo1Linux (Ubuntu 24.04.3 LTS) / x86_64  OK    OK    WARNINGS  NO, package depends on 'SummarizedExperiment' which is not available