Package: biocGraph Version: 1.71.0 Command: rm -rf biocGraph.buildbin-libdir && mkdir biocGraph.buildbin-libdir && F:\biocbuild\bbs-3.22-bioc\R\bin\R.exe CMD INSTALL --build --library=biocGraph.buildbin-libdir biocGraph_1.71.0.tar.gz StartedAt: 2025-08-15 09:49:09 -0400 (Fri, 15 Aug 2025) EndedAt: 2025-08-15 09:49:31 -0400 (Fri, 15 Aug 2025) EllapsedTime: 21.5 seconds RetCode: 0 Status: OK PackageFile: biocGraph_1.71.0.zip PackageFileSize: 440.8 KiB