Package: biocGraph Version: 1.73.0 Command: /home/biocbuild/bbs-3.23-bioc/R/bin/R CMD INSTALL biocGraph StartedAt: 2025-11-05 15:34:33 -0500 (Wed, 05 Nov 2025) EndedAt: 2025-11-05 15:34:48 -0500 (Wed, 05 Nov 2025) EllapsedTime: 15.1 seconds RetCode: 0 Status: OK