Package: biocGraph Version: 1.73.0 Command: /home/biocbuild/bbs-3.23-bioc/R/bin/R CMD check --install=check:biocGraph.install-out.txt --library=/home/biocbuild/bbs-3.23-bioc/R/site-library --timings biocGraph_1.73.0.tar.gz StartedAt: 2025-11-06 21:18:50 -0500 (Thu, 06 Nov 2025) EndedAt: 2025-11-06 21:20:38 -0500 (Thu, 06 Nov 2025) EllapsedTime: 108.2 seconds RetCode: 0 Status: OK CheckDir: biocGraph.Rcheck Warnings: 0