Package: biocGraph Version: 1.73.0 Command: /home/biocbuild/bbs-3.23-bioc/R/bin/R CMD build --keep-empty-dirs --no-resave-data biocGraph StartedAt: 2025-11-05 16:33:57 -0500 (Wed, 05 Nov 2025) EndedAt: 2025-11-05 16:34:23 -0500 (Wed, 05 Nov 2025) EllapsedTime: 26.0 seconds RetCode: 0 Status: OK PackageFile: biocGraph_1.73.0.tar.gz PackageFileSize: 730.9 KiB