Package: biobtreeR Version: 1.21.0 Command: /home/biocbuild/R/R/bin/R CMD INSTALL biobtreeR StartedAt: 2025-10-20 20:11:34 -0000 (Mon, 20 Oct 2025) EndedAt: 2025-10-20 20:12:04 -0000 (Mon, 20 Oct 2025) EllapsedTime: 30.3 seconds RetCode: 0 Status: OK