Package: biobtreeR Version: 1.21.0 Command: /home/biocbuild/R/R/bin/R CMD build --keep-empty-dirs --no-resave-data biobtreeR StartedAt: 2025-10-16 23:30:46 -0000 (Thu, 16 Oct 2025) EndedAt: 2025-10-16 23:31:15 -0000 (Thu, 16 Oct 2025) EllapsedTime: 29.0 seconds RetCode: 1 Status: ERROR PackageFile: None PackageFileSize: NA