Package: biobtreeR Version: 1.21.0 Command: /home/biocbuild/bbs-3.22-bioc/R/bin/R CMD check --install=check:biobtreeR.install-out.txt --library=/home/biocbuild/bbs-3.22-bioc/R/site-library --timings biobtreeR_1.21.0.tar.gz StartedAt: 2025-10-24 21:34:45 -0400 (Fri, 24 Oct 2025) EndedAt: 2025-10-24 21:35:57 -0400 (Fri, 24 Oct 2025) EllapsedTime: 72.1 seconds RetCode: 0 Status: OK CheckDir: biobtreeR.Rcheck Warnings: 0