Package: biobtreeR Version: 1.23.0 Command: /home/biocbuild/bbs-3.23-bioc/R/bin/R CMD build --keep-empty-dirs --no-resave-data biobtreeR StartedAt: 2025-11-06 16:25:54 -0500 (Thu, 06 Nov 2025) EndedAt: 2025-11-06 16:26:47 -0500 (Thu, 06 Nov 2025) EllapsedTime: 53.1 seconds RetCode: 0 Status: OK PackageFile: biobtreeR_1.23.0.tar.gz PackageFileSize: 938.4 KiB