Package: biobtreeR Version: 1.21.0 Command: /Library/Frameworks/R.framework/Resources/bin/R CMD INSTALL biobtreeR StartedAt: 2025-10-03 15:05:41 -0400 (Fri, 03 Oct 2025) EndedAt: 2025-10-03 15:06:10 -0400 (Fri, 03 Oct 2025) EllapsedTime: 28.9 seconds RetCode: 0 Status: OK