Package: biobtreeR Version: 1.21.0 Command: rm -rf biobtreeR.buildbin-libdir && mkdir biobtreeR.buildbin-libdir && /Users/biocbuild/BBS/utils/build-universal.sh biobtreeR_1.21.0.tar.gz /Library/Frameworks/R.framework/Resources/bin/R biobtreeR.buildbin-libdir StartedAt: 2025-10-04 01:54:36 -0400 (Sat, 04 Oct 2025) EndedAt: 2025-10-04 01:54:41 -0400 (Sat, 04 Oct 2025) EllapsedTime: 5.8 seconds RetCode: 0 Status: OK PackageFile: biobtreeR_1.21.0.tgz PackageFileSize: 979.2 KiB