Package: bioassayR Version: 1.49.0 Command: /home/biocbuild/bbs-3.23-bioc/R/bin/R CMD build --keep-empty-dirs --no-resave-data bioassayR StartedAt: 2025-11-11 16:30:14 -0500 (Tue, 11 Nov 2025) EndedAt: 2025-11-11 16:31:00 -0500 (Tue, 11 Nov 2025) EllapsedTime: 46.0 seconds RetCode: 0 Status: OK PackageFile: bioassayR_1.49.0.tar.gz PackageFileSize: 1.52 MiB