Package: bioassayR Version: 1.47.0 Command: /Library/Frameworks/R.framework/Resources/bin/R CMD INSTALL bioassayR StartedAt: 2025-10-08 15:12:49 -0400 (Wed, 08 Oct 2025) EndedAt: 2025-10-08 15:12:54 -0400 (Wed, 08 Oct 2025) EllapsedTime: 4.8 seconds RetCode: 0 Status: OK