Package: bioDist Version: 1.83.0 Command: /home/biocbuild/bbs-3.23-bioc/R/bin/R CMD INSTALL bioDist StartedAt: 2025-11-02 15:19:31 -0500 (Sun, 02 Nov 2025) EndedAt: 2025-11-02 15:19:34 -0500 (Sun, 02 Nov 2025) EllapsedTime: 3.1 seconds RetCode: 0 Status: OK