Package: bioDist Version: 1.83.0 Command: /home/biocbuild/bbs-3.23-bioc/R/bin/R CMD build --keep-empty-dirs --no-resave-data bioDist StartedAt: 2025-11-02 16:34:03 -0500 (Sun, 02 Nov 2025) EndedAt: 2025-11-02 16:34:19 -0500 (Sun, 02 Nov 2025) EllapsedTime: 16.0 seconds RetCode: 0 Status: OK PackageFile: bioDist_1.83.0.tar.gz PackageFileSize: 204.9 KiB