Package: bioDist Version: 1.81.0 Command: /Library/Frameworks/R.framework/Resources/bin/R CMD INSTALL bioDist StartedAt: 2025-10-05 15:15:19 -0400 (Sun, 05 Oct 2025) EndedAt: 2025-10-05 15:15:35 -0400 (Sun, 05 Oct 2025) EllapsedTime: 16.0 seconds RetCode: 0 Status: OK