Package: bioDist Version: 1.81.0 Command: /Library/Frameworks/R.framework/Resources/bin/R CMD build --keep-empty-dirs --no-resave-data bioDist StartedAt: 2025-10-05 16:12:14 -0400 (Sun, 05 Oct 2025) EndedAt: 2025-10-05 16:12:39 -0400 (Sun, 05 Oct 2025) EllapsedTime: 25.2 seconds RetCode: 0 Status: OK PackageFile: bioDist_1.81.0.tar.gz PackageFileSize: 204.1 KiB