Package: bioDist Version: 1.81.0 Command: rm -rf bioDist.buildbin-libdir && mkdir bioDist.buildbin-libdir && /Users/biocbuild/BBS/utils/build-universal.sh bioDist_1.81.0.tar.gz /Library/Frameworks/R.framework/Resources/bin/R bioDist.buildbin-libdir StartedAt: 2025-10-06 01:50:26 -0400 (Mon, 06 Oct 2025) EndedAt: 2025-10-06 01:50:34 -0400 (Mon, 06 Oct 2025) EllapsedTime: 8.1 seconds RetCode: 0 Status: OK PackageFile: bioDist_1.81.0.tgz PackageFileSize: 254.7 KiB