Package: bioCancer Version: 1.37.0 Command: /home/biocbuild/R/R/bin/R CMD build --keep-empty-dirs --no-resave-data bioCancer StartedAt: 2025-10-20 22:13:43 -0000 (Mon, 20 Oct 2025) EndedAt: 2025-10-20 22:14:55 -0000 (Mon, 20 Oct 2025) EllapsedTime: 72.0 seconds RetCode: 0 Status: OK PackageFile: bioCancer_1.37.0.tar.gz PackageFileSize: 9.459 MiB