Package: bioCancer Version: 1.39.0 Command: /home/biocbuild/bbs-3.23-bioc/R/bin/R CMD INSTALL bioCancer StartedAt: 2025-11-05 16:04:44 -0500 (Wed, 05 Nov 2025) EndedAt: 2025-11-05 16:05:00 -0500 (Wed, 05 Nov 2025) EllapsedTime: 16.2 seconds RetCode: 1 Status: ERROR