############################################################################## ############################################################################## ### ### Running command: ### ### /home/biocbuild/bbs-3.23-bioc/R/bin/R CMD INSTALL bioCancer ### ############################################################################## ############################################################################## * installing to library ‘/home/biocbuild/bbs-3.23-bioc/R/site-library’ * installing *source* package ‘bioCancer’ ... ** this is package ‘bioCancer’ version ‘1.39.0’ ** using staged installation ** R ** data *** moving datasets to lazyload DB ** inst ** byte-compile and prepare package for lazy loading Error: package or namespace load failed for ‘cBioPortalData’: object ‘microRNAs’ is not exported by 'namespace:GenomicFeatures' Execution halted ERROR: lazy loading failed for package ‘bioCancer’ * removing ‘/home/biocbuild/bbs-3.23-bioc/R/site-library/bioCancer’