Package: bioCancer Version: 1.39.0 Command: /home/biocbuild/bbs-3.23-bioc/R/bin/R CMD build --keep-empty-dirs --no-resave-data bioCancer StartedAt: 2025-11-05 16:33:28 -0500 (Wed, 05 Nov 2025) EndedAt: 2025-11-05 16:33:43 -0500 (Wed, 05 Nov 2025) EllapsedTime: 15.0 seconds RetCode: 1 Status: ERROR PackageFile: None PackageFileSize: NA