############################################################################## ############################################################################## ### ### Running command: ### ### /home/biocbuild/bbs-3.23-bioc/R/bin/R CMD build --keep-empty-dirs --no-resave-data bioCancer ### ############################################################################## ############################################################################## * checking for file ‘bioCancer/DESCRIPTION’ ... OK * preparing ‘bioCancer’: * checking DESCRIPTION meta-information ... OK * installing the package (it is needed to build vignettes) ----------------------------------- * installing *source* package ‘bioCancer’ ... ** this is package ‘bioCancer’ version ‘1.39.0’ ** using staged installation ** R ** data *** moving datasets to lazyload DB ** inst ** byte-compile and prepare package for lazy loading Error: package or namespace load failed for ‘cBioPortalData’: object ‘microRNAs’ is not exported by 'namespace:GenomicFeatures' Execution halted ERROR: lazy loading failed for package ‘bioCancer’ * removing ‘/tmp/RtmpF5fuhS/Rinst14f3c1b36f131/bioCancer’ ----------------------------------- ERROR: package installation failed