Package: bigmelon Version: 1.35.0 Command: /home/biocbuild/bbs-3.22-bioc/R/bin/R CMD check --install=check:bigmelon.install-out.txt --library=/home/biocbuild/bbs-3.22-bioc/R/site-library --timings bigmelon_1.35.0.tar.gz StartedAt: 2025-10-17 21:24:19 -0400 (Fri, 17 Oct 2025) EndedAt: 2025-10-17 21:31:54 -0400 (Fri, 17 Oct 2025) EllapsedTime: 454.5 seconds RetCode: 0 Status: WARNINGS CheckDir: bigmelon.Rcheck Warnings: 5