Package: bgx Version: 1.75.1 Command: /home/biocbuild/bbs-3.23-bioc/R/bin/R CMD INSTALL bgx StartedAt: 2025-10-22 21:09:06 -0000 (Wed, 22 Oct 2025) EndedAt: 2025-10-22 21:09:32 -0000 (Wed, 22 Oct 2025) EllapsedTime: 25.6 seconds RetCode: 0 Status: OK