Package: bgx Version: 1.75.1 Command: /home/biocbuild/bbs-3.23-bioc/R/bin/R CMD build --keep-empty-dirs --no-resave-data bgx StartedAt: 2025-10-22 22:08:49 -0000 (Wed, 22 Oct 2025) EndedAt: 2025-10-22 22:09:18 -0000 (Wed, 22 Oct 2025) EllapsedTime: 29.0 seconds RetCode: 1 Status: ERROR PackageFile: None PackageFileSize: NA