Package: betaHMM Version: 1.7.0 Command: /home/biocbuild/bbs-3.23-bioc/R/bin/R CMD INSTALL betaHMM StartedAt: 2025-11-05 15:24:58 -0500 (Wed, 05 Nov 2025) EndedAt: 2025-11-05 15:25:24 -0500 (Wed, 05 Nov 2025) EllapsedTime: 26.6 seconds RetCode: 0 Status: OK