Package: betaHMM Version: 1.7.0 Command: /home/biocbuild/bbs-3.23-bioc/R/bin/R CMD build --keep-empty-dirs --no-resave-data betaHMM StartedAt: 2025-11-05 16:30:45 -0500 (Wed, 05 Nov 2025) EndedAt: 2025-11-05 16:35:28 -0500 (Wed, 05 Nov 2025) EllapsedTime: 283.3 seconds RetCode: 0 Status: OK PackageFile: betaHMM_1.7.0.tar.gz PackageFileSize: 3.839 MiB