Package: betaHMM Version: 1.5.1 Command: /Library/Frameworks/R.framework/Resources/bin/R CMD INSTALL betaHMM StartedAt: 2025-10-10 15:25:05 -0400 (Fri, 10 Oct 2025) EndedAt: 2025-10-10 15:25:42 -0400 (Fri, 10 Oct 2025) EllapsedTime: 37.0 seconds RetCode: 0 Status: OK