Package: betaHMM Version: 1.5.1 Command: /Library/Frameworks/R.framework/Resources/bin/R CMD build --keep-empty-dirs --no-resave-data betaHMM StartedAt: 2025-10-10 16:13:42 -0400 (Fri, 10 Oct 2025) EndedAt: 2025-10-10 16:19:52 -0400 (Fri, 10 Oct 2025) EllapsedTime: 370.1 seconds RetCode: 0 Status: OK PackageFile: betaHMM_1.5.1.tar.gz PackageFileSize: 3.835 MiB