Package: betaHMM Version: 1.5.1 Command: rm -rf betaHMM.buildbin-libdir && mkdir betaHMM.buildbin-libdir && /Users/biocbuild/BBS/utils/build-universal.sh betaHMM_1.5.1.tar.gz /Library/Frameworks/R.framework/Resources/bin/R betaHMM.buildbin-libdir StartedAt: 2025-10-11 02:18:35 -0400 (Sat, 11 Oct 2025) EndedAt: 2025-10-11 02:19:16 -0400 (Sat, 11 Oct 2025) EllapsedTime: 41.5 seconds RetCode: 0 Status: OK PackageFile: betaHMM_1.5.1.tgz PackageFileSize: 3.921 MiB