Package: betaHMM Version: 1.5.1 Maintainer: Koyel Majumdar MaintainerEmail: koyelmajumdar.phdresearch at gmail.com git_url: https://git.bioconductor.org/packages/betaHMM git_branch: devel git_last_commit: ccf729c git_last_commit_date: 2025-09-20 14:04:31 -0400 (Sat, 20 Sep 2025)