Package: benchdamic Version: 1.17.0 Command: /home/biocbuild/bbs-3.23-bioc/R/bin/R CMD INSTALL benchdamic StartedAt: 2025-11-05 15:37:25 -0500 (Wed, 05 Nov 2025) EndedAt: 2025-11-05 15:38:32 -0500 (Wed, 05 Nov 2025) EllapsedTime: 66.8 seconds RetCode: 0 Status: OK