Package: benchdamic Version: 1.17.0 Command: /home/biocbuild/bbs-3.23-bioc/R/bin/R CMD build --keep-empty-dirs --no-resave-data benchdamic StartedAt: 2025-11-05 16:30:14 -0500 (Wed, 05 Nov 2025) EndedAt: 2025-11-05 16:52:59 -0500 (Wed, 05 Nov 2025) EllapsedTime: 1365.2 seconds RetCode: 0 Status: OK PackageFile: benchdamic_1.17.0.tar.gz PackageFileSize: 5.882 MiB