Package: benchdamic Version: 1.15.4 Command: rm -rf benchdamic.buildbin-libdir && mkdir benchdamic.buildbin-libdir && /Users/biocbuild/BBS/utils/build-universal.sh benchdamic_1.15.4.tar.gz /Library/Frameworks/R.framework/Resources/bin/R benchdamic.buildbin-libdir StartedAt: 2025-10-23 01:21:45 -0400 (Thu, 23 Oct 2025) EndedAt: 2025-10-23 01:23:27 -0400 (Thu, 23 Oct 2025) EllapsedTime: 102.0 seconds RetCode: 0 Status: OK PackageFile: benchdamic_1.15.4.tgz PackageFileSize: 6.142 MiB