Package: benchdamic Version: 1.15.4 Command: /Library/Frameworks/R.framework/Resources/bin/R CMD INSTALL benchdamic StartedAt: 2025-10-10 15:18:21 -0400 (Fri, 10 Oct 2025) EndedAt: 2025-10-10 15:18:49 -0400 (Fri, 10 Oct 2025) EllapsedTime: 28.2 seconds RetCode: 0 Status: OK