Package: benchdamic Version: 1.15.4 Command: /Library/Frameworks/R.framework/Resources/bin/R CMD build --keep-empty-dirs --no-resave-data benchdamic StartedAt: 2025-10-10 15:46:07 -0400 (Fri, 10 Oct 2025) EndedAt: 2025-10-10 15:53:12 -0400 (Fri, 10 Oct 2025) EllapsedTime: 424.8 seconds RetCode: 0 Status: OK PackageFile: benchdamic_1.15.4.tar.gz PackageFileSize: 5.773 MiB