Package: benchdamic Version: 1.15.4 Command: rm -rf benchdamic.buildbin-libdir && mkdir benchdamic.buildbin-libdir && /Users/biocbuild/BBS/utils/build-universal.sh benchdamic_1.15.4.tar.gz /Library/Frameworks/R.framework/Resources/bin/R benchdamic.buildbin-libdir StartedAt: 2025-10-10 22:33:12 -0400 (Fri, 10 Oct 2025) EndedAt: 2025-10-10 22:33:44 -0400 (Fri, 10 Oct 2025) EllapsedTime: 32.0 seconds RetCode: 0 Status: OK PackageFile: benchdamic_1.15.4.tgz PackageFileSize: 6.127 MiB