Package: bedbaser Version: 1.1.3 Command: /Library/Frameworks/R.framework/Resources/bin/R CMD INSTALL bedbaser StartedAt: 2025-10-13 15:31:46 -0400 (Mon, 13 Oct 2025) EndedAt: 2025-10-13 15:31:54 -0400 (Mon, 13 Oct 2025) EllapsedTime: 7.8 seconds RetCode: 0 Status: OK