Package: bedbaser Version: 1.1.3 Command: /Library/Frameworks/R.framework/Resources/bin/R CMD build --keep-empty-dirs --no-resave-data bedbaser StartedAt: 2025-10-13 16:10:04 -0400 (Mon, 13 Oct 2025) EndedAt: 2025-10-13 16:12:15 -0400 (Mon, 13 Oct 2025) EllapsedTime: 130.8 seconds RetCode: 0 Status: OK PackageFile: bedbaser_1.1.3.tar.gz PackageFileSize: 251.4 KiB